BEGIN:VCALENDAR
VERSION:2.0
PRODID:DPCALENDAR
CALSCALE:GREGORIAN
BEGIN:VTIMEZONE
TZID:Europe/Berlin
X-MICROSOFT-CDO-TZID:4
BEGIN:STANDARD
DTSTART:20251026T010000
TZOFFSETFROM:+0200
TZOFFSETTO:+0100
TZNAME:CET
END:STANDARD
BEGIN:STANDARD
DTSTART:20261025T010000
TZOFFSETFROM:+0200
TZOFFSETTO:+0100
TZNAME:CET
END:STANDARD
BEGIN:DAYLIGHT
DTSTART:20260329T010000
TZOFFSETFROM:+0100
TZOFFSETTO:+0200
TZNAME:CEST
END:DAYLIGHT
END:VTIMEZONE
X-WR-TIMEZONE:Europe/Berlin
BEGIN:VEVENT
DTSTART;TZID=Europe/Berlin:20260418T100000
DTEND;TZID=Europe/Berlin:20260418T160000
UID:238A390A-4E6C-40D3-B236-7D663CB834F5
SUMMARY:Segeltraining
CREATED:20260411T151410Z
DTSTAMP:20260411T151410Z
URL:https://rc-segelfreunde.de/component/dpcalendar/event/3?calid=12
LAST-MODIFIED:20260415T144327Z
SEQUENCE:343757
X-ACCESS:1
X-HITS:149
X-COLOR:3366cc
X-SHOW-END-TIME:0
END:VEVENT
BEGIN:VEVENT
DTSTART;VALUE=DATE:20260425
DTEND;VALUE=DATE:20260428
UID:35305077-6648-4D2E-B7B8-B60A930A1877
SUMMARY:	Int. Deutsche Meisterschaft Marblehead 
CREATED:20260413T104143Z
DTSTAMP:20260413T104143Z
URL:https://www.radiosailing.de/images/jevents/nor_scd_idm_marblead_2026-mit_zeitplan.pdf
LAST-MODIFIED:20260413T104455Z
SEQUENCE:192
LOCATION:Rönnekers Weg\, 49459 Lembruch\, Niedersachsen\, Deutschland
GEO:52.52389810;8.36081650
X-LOCATION-DISPLAYNAME:Rönnekers Weg
X-ACCESS:1
X-HITS:124
X-COLOR:3366cc
X-IMAGE-FULL:https://rc-segelfreunde.de/images/dm%20marblehead.png
X-SHOW-END-TIME:0
END:VEVENT
BEGIN:VEVENT
DTSTART;TZID=Europe/Berlin:20260425T100000
DTEND;TZID=Europe/Berlin:20260425T160000
UID:C30C23E1-8B57-49E7-BFBF-2A3B5B692828
SUMMARY:Segeltraining
CREATED:20260411T151410Z
DTSTAMP:20260411T151410Z
URL:https://rc-segelfreunde.de/component/dpcalendar/event/4?calid=12
LAST-MODIFIED:20260415T144404Z
SEQUENCE:343794
X-ACCESS:1
X-HITS:121
X-COLOR:3366cc
X-SHOW-END-TIME:0
END:VEVENT
BEGIN:VEVENT
DTSTART;VALUE=DATE:20260501
DTEND;VALUE=DATE:20260504
UID:CFCA82DD-0F57-41C5-968C-4312E578DB6C
SUMMARY:IOM-Days 2026
CREATED:20260411T020553Z
DTSTAMP:20260411T020553Z
URL:https://rc-segelfreunde.de/component/dpcalendar/event/2?calid=12
LAST-MODIFIED:20260411T151254Z
SEQUENCE:47221
LOCATION:Quellseeweg\, 27711 Osterholz-Scharmbeck\, Niedersachsen\, Deutschland
GEO:53.28925640;8.76204510
X-LOCATION-DISPLAYNAME:Quellseeweg
X-ACCESS:1
X-HITS:176
X-COLOR:c71010
X-IMAGE-FULL:https://rc-segelfreunde.de/images/rc-segler/Flyer%20IOM-Days%202026.png
X-SHOW-END-TIME:0
END:VEVENT
BEGIN:VEVENT
DTSTART;VALUE=DATE:20260515
DTEND;VALUE=DATE:20260523
UID:09B7E865-4689-46D7-A0B3-EC54374D23F5
SUMMARY:IOM World Championship
CREATED:20260411T154344Z
DTSTAMP:20260411T154344Z
URL:https://www.iomworlds2026.com/
LAST-MODIFIED:20260412T083343Z
SEQUENCE:60599
LOCATION:
GEO:51.48384830;-0.57842910
X-LOCATION-DISPLAYNAME:Datchet
X-ACCESS:1
X-HITS:114
X-COLOR:c71010
X-IMAGE-FULL:https://rc-segelfreunde.de/images/rc-segler/IOM%20World%20Chamionship.png
X-SHOW-END-TIME:0
END:VEVENT
BEGIN:VEVENT
DTSTART;TZID=Europe/Berlin:20260523T100000
DTEND;TZID=Europe/Berlin:20260523T160000
UID:8B565374-CB0A-4236-A912-65EDC5006281
SUMMARY:Auszug/Aufräumen Saisonende
CREATED:20260411T151410Z
DTSTAMP:20260411T151410Z
URL:https://rc-segelfreunde.de/component/dpcalendar/event/5?calid=12
LAST-MODIFIED:20260415T144414Z
SEQUENCE:343804
X-ACCESS:1
X-HITS:91
X-COLOR:3366cc
X-SHOW-END-TIME:0
END:VEVENT
END:VCALENDAR